BEGIN:VCALENDAR
VERSION:2.0
PRODID:-//DAS Health - ECPv6.15.11//NONSGML v1.0//EN
CALSCALE:GREGORIAN
METHOD:PUBLISH
X-ORIGINAL-URL:https://dashealth.com
X-WR-CALDESC:Events for DAS Health
REFRESH-INTERVAL;VALUE=DURATION:PT1H
X-Robots-Tag:noindex
X-PUBLISHED-TTL:PT1H
BEGIN:VTIMEZONE
TZID:America/New_York
BEGIN:DAYLIGHT
TZOFFSETFROM:-0500
TZOFFSETTO:-0400
TZNAME:EDT
DTSTART:20250309T070000
END:DAYLIGHT
BEGIN:STANDARD
TZOFFSETFROM:-0400
TZOFFSETTO:-0500
TZNAME:EST
DTSTART:20251102T060000
END:STANDARD
BEGIN:DAYLIGHT
TZOFFSETFROM:-0500
TZOFFSETTO:-0400
TZNAME:EDT
DTSTART:20260308T070000
END:DAYLIGHT
BEGIN:STANDARD
TZOFFSETFROM:-0400
TZOFFSETTO:-0500
TZNAME:EST
DTSTART:20261101T060000
END:STANDARD
BEGIN:DAYLIGHT
TZOFFSETFROM:-0500
TZOFFSETTO:-0400
TZNAME:EDT
DTSTART:20270314T070000
END:DAYLIGHT
BEGIN:STANDARD
TZOFFSETFROM:-0400
TZOFFSETTO:-0500
TZNAME:EST
DTSTART:20271107T060000
END:STANDARD
END:VTIMEZONE
BEGIN:VTIMEZONE
TZID:UTC
BEGIN:STANDARD
TZOFFSETFROM:+0000
TZOFFSETTO:+0000
TZNAME:UTC
DTSTART:20250101T000000
END:STANDARD
END:VTIMEZONE
BEGIN:VEVENT
DTSTART;TZID=America/New_York:20261013T133000
DTEND;TZID=America/New_York:20261013T153000
DTSTAMP:20260421T125421
CREATED:20251216T183111Z
LAST-MODIFIED:20251217T184225Z
UID:4127-1791898200-1791905400@dashealth.com
SUMMARY:Aprima PM Billing Training
DESCRIPTION:In this training class\, you will learn the Aprima PM Billing side of the Aprima 19.2 Software. This class will give you the knowledge and skills to be able to customize the Practice Management portions of your Aprima 19.2 database. \nProcesses Covered: \n\nLogging in & short cut keys\nPatient demographics\nAccount tab review\nTrack superbills – overview & icon definitions\nCharge entry\nBatches – overview & icon definitions\nTrack payments\nPayment posting\nERA review\nProcessing claims – paper & electronic\nStatements\nList Editor\nFee Schedule\nReports\n\nRecommended Attendees: \n\nPractice super users\nNurses\nFront office staff
URL:https://dashealth.com/event/aprima-pm-billing-training-10/
CATEGORIES:Training Class
ATTACH;FMTTYPE=image/jpeg:https://dashealth.com/wp-content/uploads/2025/12/Banner-Training-Class.jpg
END:VEVENT
BEGIN:VEVENT
DTSTART;TZID=America/New_York:20261014T133000
DTEND;TZID=America/New_York:20261014T153000
DTSTAMP:20260421T125421
CREATED:20251216T183729Z
LAST-MODIFIED:20251217T184157Z
UID:4136-1791984600-1791991800@dashealth.com
SUMMARY:Aprima Clinical EHR End User
DESCRIPTION:In this training class\, you will learn: \n\nHomepage Navigation & Configuration\nPatient Visit & Documentation: Scheduler\, appointment queue\, calendar\nVitals Tab: Add/modify BP methods\, weight conditions\, set vitals default\nChief Complaint (CC) Tab: Add/modify systems/symptoms\, configure criteria slider\, show/hide options\nHistory of Present Illness (HPI): Add/modify category/symptoms\, use criteria slider\, show/hide descriptions\nHistory Tab: Add/modify answer groups\, history questions/answers\nReview of Systems (ROS) Tab: Add/modify systems/symptoms\, set defaults\, use criteria slider\, show/hide items\nPhysical Exam (PE) Tab: Add/modify findings/descriptions\, set PE parent system and types\, set defaults\, show/hide fields\nRx Tab: Add/modify default sigs\nPlan & Patient Instructions: Add/modify macros\nExisting Images: How to import\nEducation Forms: Import and associate with patient education\nVaccines: Define vaccine defaults (if applicable)\nMessages: Manage attachment approvals\, Rx refill requests\, and service order approvals\nProvider Setup: Validate identity for eRx\, create electronic signature
URL:https://dashealth.com/event/aprima-clinical-ehr-end-user-10/
CATEGORIES:Training Class
ATTACH;FMTTYPE=image/jpeg:https://dashealth.com/wp-content/uploads/2025/12/Banner-Training-Class.jpg
END:VEVENT
BEGIN:VEVENT
DTSTART;TZID=America/New_York:20261015T133000
DTEND;TZID=America/New_York:20261015T150000
DTSTAMP:20260421T125421
CREATED:20251216T185254Z
LAST-MODIFIED:20251217T184128Z
UID:4155-1792071000-1792076400@dashealth.com
SUMMARY:Medisoft PM Billing Training
DESCRIPTION:In this training class\, you will learn the practice management side of the Medisoft software. These classes will give you the knowledge and skills to be able to perform the billing functions in the software. \nProcesses Covered: \n\nLogging in\nShort cut keys\nPatient & Guarantor data entry\nPatient demographics\nCases – definition & creation\nTransaction entry\nUpdating charge entries\nInsurance set up\nClaims management\nDeposit entry\nStatement management\nAR Tracker\nProgram options\nReports\n\nRecommended Attendees: \n\nPractice super users\nNurses\nFront office staff\nBillers
URL:https://dashealth.com/event/medisoft-pm-billing-training-26/
CATEGORIES:Training Class
ATTACH;FMTTYPE=image/jpeg:https://dashealth.com/wp-content/uploads/2025/12/Banner-Training-Class.jpg
END:VEVENT
BEGIN:VEVENT
DTSTART;TZID=America/New_York:20261021T133000
DTEND;TZID=America/New_York:20261021T150000
DTSTAMP:20260421T125421
CREATED:20251216T184434Z
LAST-MODIFIED:20251217T184109Z
UID:4145-1792589400-1792594800@dashealth.com
SUMMARY:Aprima Super User
DESCRIPTION:In this training class\, you will learn the PM End User side of the Aprima Software. This class will give you the knowledge and skills to be able to customize the Practice Management portions of your Aprima database. \nProcesses Covered: \n\nVitals Tab – add/modify BP methods\, add/modify weight conditions\, add vitals default\nCC Tab – add/modify CC system/symptoms\, criteria slider\, hide/un-hide system/symptoms\nHPI – add/modify HPI category/symptoms\, criteria slider\, hide/un-hide category and descriptions\nHistory Tab – add/modify answer group\, history group/questions\, history questions/answers\nROS Tab – add/modify ROS systems/symptoms\, set defaults\, criteria slider\, hide/un-hide system/symptoms\nPE Tab – add/modify findings/descriptions; PE parent system; PE typ/system\, set defaults criteria slider\, hide/un-hide\nRx Tab – add/modify default sigs\nPlan and Patient Instructions – add/modify macros\nExisting Images – how to import\nEducation Forms – import forms\, associate education forms\nVaccines – define vaccine default (if applicable)\nAdministration – attachment types\, charge tickets: modify Dx/SO/SP charge tickets\, create procedure panels\, create custom codes\n\nRecommended Attendees: \n\nPractice super users\nNurses\nFront office staff
URL:https://dashealth.com/event/aprima-super-user-10/
CATEGORIES:Training Class
ATTACH;FMTTYPE=image/jpeg:https://dashealth.com/wp-content/uploads/2025/12/Banner-Training-Class.jpg
END:VEVENT
BEGIN:VEVENT
DTSTART;VALUE=DATE:20261025
DTEND;VALUE=DATE:20261029
DTSTAMP:20260421T125421
CREATED:20260415T173642Z
LAST-MODIFIED:20260415T173805Z
UID:4459-1792886400-1793231999@dashealth.com
SUMMARY:LeadingAge National - Annual Conference 2026
DESCRIPTION:DAS Health to Exhibit and Speak at LeadingAge Annual Meeting 2026 | Booth 918\nDAS Health is proud to announce our participation in the LeadingAge Annual Meeting 2026\, taking place October 25–28\, 2026\, at the Pennsylvania Convention Center. \nAs one of the aging services industry’s premier annual events\, LeadingAge brings together more than 6\,000 aging services professionals from across the country to share ideas\, explore innovations\, and shape the future of senior care. \nDAS Health will be exhibiting at Booth #918 in the VIP Partner Section\, where attendees can connect with our team of subject matter experts and account executives to discuss technology and business strategies purpose-built for senior living and aging services organizations. \nIn addition to meeting with our experts\, attendees can stop by for an interactive booth experience designed to educate\, engage\, and entertain. We’ll be bringing an exciting hands-on activity to the expo floor—paired with giveaways and prizes—to create a fun\, memorable way for attendees to learn more about the technology and operational strategies shaping the future of senior care. Stay tuned for more details as we get closer to the event. \nFeatured Speaking Session\nWe are also proud to share that Kyle Mynatt\, Chief Technology Officer at DAS Health\, will be presenting: \nFuture-Ready Senior Care Leadership: Scaling Communities Through Smart Technology & People-First Strategy \nThis educational session will explore how senior care leaders can better align technology investments\, operational strategy\, and workforce planning to support sustainable organizational growth. \nLearning Objectives\n\nUnderstand how senior care leadership and technology strategy intersect to support safe\, scalable community growth\nLearn how to evaluate IT investments that directly impact resident care\, compliance\, and staff efficiency\nDiscover proven frameworks for building tech-enabled teams and resilient infrastructure across multi-site senior care organizations\n\nIf you’re attending LeadingAge 2026\, be sure to visit Booth 918\, participate in our interactive experience\, attend Kyle’s session\, and connect with the DAS Health team to discover how we help aging services organizations build smarter\, stronger\, and more scalable operations. \nPlanning ahead? Book a meeting with the team!
URL:https://dashealth.com/event/leadingage-national-annual-conference-2026/
CATEGORIES:In Person Event
ATTACH;FMTTYPE=image/png:https://dashealth.com/wp-content/uploads/2025/06/Banner-In-Person-Event.png
END:VEVENT
BEGIN:VEVENT
DTSTART;TZID=America/New_York:20261110T133000
DTEND;TZID=America/New_York:20261110T153000
DTSTAMP:20260421T125421
CREATED:20251216T183133Z
LAST-MODIFIED:20251217T172305Z
UID:4128-1794317400-1794324600@dashealth.com
SUMMARY:Aprima PM Billing Training
DESCRIPTION:In this training class\, you will learn the Aprima PM Billing side of the Aprima 19.2 Software. This class will give you the knowledge and skills to be able to customize the Practice Management portions of your Aprima 19.2 database. \nProcesses Covered: \n\nLogging in & short cut keys\nPatient demographics\nAccount tab review\nTrack superbills – overview & icon definitions\nCharge entry\nBatches – overview & icon definitions\nTrack payments\nPayment posting\nERA review\nProcessing claims – paper & electronic\nStatements\nList Editor\nFee Schedule\nReports\n\nRecommended Attendees: \n\nPractice super users\nNurses\nFront office staff
URL:https://dashealth.com/event/aprima-pm-billing-training-11/
CATEGORIES:Training Class
ATTACH;FMTTYPE=image/jpeg:https://dashealth.com/wp-content/uploads/2025/12/Banner-Training-Class.jpg
END:VEVENT
BEGIN:VEVENT
DTSTART;TZID=America/New_York:20261111T133000
DTEND;TZID=America/New_York:20261111T153000
DTSTAMP:20260421T125421
CREATED:20251216T183752Z
LAST-MODIFIED:20251217T172245Z
UID:4137-1794403800-1794411000@dashealth.com
SUMMARY:Aprima Clinical EHR End User
DESCRIPTION:In this training class\, you will learn: \n\nHomepage Navigation & Configuration\nPatient Visit & Documentation: Scheduler\, appointment queue\, calendar\nVitals Tab: Add/modify BP methods\, weight conditions\, set vitals default\nChief Complaint (CC) Tab: Add/modify systems/symptoms\, configure criteria slider\, show/hide options\nHistory of Present Illness (HPI): Add/modify category/symptoms\, use criteria slider\, show/hide descriptions\nHistory Tab: Add/modify answer groups\, history questions/answers\nReview of Systems (ROS) Tab: Add/modify systems/symptoms\, set defaults\, use criteria slider\, show/hide items\nPhysical Exam (PE) Tab: Add/modify findings/descriptions\, set PE parent system and types\, set defaults\, show/hide fields\nRx Tab: Add/modify default sigs\nPlan & Patient Instructions: Add/modify macros\nExisting Images: How to import\nEducation Forms: Import and associate with patient education\nVaccines: Define vaccine defaults (if applicable)\nMessages: Manage attachment approvals\, Rx refill requests\, and service order approvals\nProvider Setup: Validate identity for eRx\, create electronic signature
URL:https://dashealth.com/event/aprima-clinical-ehr-end-user-11/
CATEGORIES:Training Class
ATTACH;FMTTYPE=image/jpeg:https://dashealth.com/wp-content/uploads/2025/12/Banner-Training-Class.jpg
END:VEVENT
BEGIN:VEVENT
DTSTART;TZID=America/New_York:20261118T133000
DTEND;TZID=America/New_York:20261118T150000
DTSTAMP:20260421T125421
CREATED:20251216T184500Z
LAST-MODIFIED:20251217T172214Z
UID:4146-1795008600-1795014000@dashealth.com
SUMMARY:Aprima Super User
DESCRIPTION:In this training class\, you will learn the PM End User side of the Aprima Software. This class will give you the knowledge and skills to be able to customize the Practice Management portions of your Aprima database. \nProcesses Covered: \n\nVitals Tab – add/modify BP methods\, add/modify weight conditions\, add vitals default\nCC Tab – add/modify CC system/symptoms\, criteria slider\, hide/un-hide system/symptoms\nHPI – add/modify HPI category/symptoms\, criteria slider\, hide/un-hide category and descriptions\nHistory Tab – add/modify answer group\, history group/questions\, history questions/answers\nROS Tab – add/modify ROS systems/symptoms\, set defaults\, criteria slider\, hide/un-hide system/symptoms\nPE Tab – add/modify findings/descriptions; PE parent system; PE typ/system\, set defaults criteria slider\, hide/un-hide\nRx Tab – add/modify default sigs\nPlan and Patient Instructions – add/modify macros\nExisting Images – how to import\nEducation Forms – import forms\, associate education forms\nVaccines – define vaccine default (if applicable)\nAdministration – attachment types\, charge tickets: modify Dx/SO/SP charge tickets\, create procedure panels\, create custom codes\n\nRecommended Attendees: \n\nPractice super users\nNurses\nFront office staff
URL:https://dashealth.com/event/aprima-super-user-11/
CATEGORIES:Training Class
ATTACH;FMTTYPE=image/jpeg:https://dashealth.com/wp-content/uploads/2025/12/Banner-Training-Class.jpg
END:VEVENT
BEGIN:VEVENT
DTSTART;TZID=America/New_York:20261119T133000
DTEND;TZID=America/New_York:20261119T150000
DTSTAMP:20260421T125421
CREATED:20251216T185416Z
LAST-MODIFIED:20251217T172137Z
UID:4156-1795095000-1795100400@dashealth.com
SUMMARY:Medisoft PM Billing Training
DESCRIPTION:In this training class\, you will learn the practice management side of the Medisoft software. These classes will give you the knowledge and skills to be able to perform the billing functions in the software. \nProcesses Covered: \n\nLogging in\nShort cut keys\nPatient & Guarantor data entry\nPatient demographics\nCases – definition & creation\nTransaction entry\nUpdating charge entries\nInsurance set up\nClaims management\nDeposit entry\nStatement management\nAR Tracker\nProgram options\nReports\n\nRecommended Attendees: \n\nPractice super users\nNurses\nFront office staff\nBillers
URL:https://dashealth.com/event/medisoft-pm-billing-training-27/
CATEGORIES:Training Class
ATTACH;FMTTYPE=image/jpeg:https://dashealth.com/wp-content/uploads/2025/12/Banner-Training-Class.jpg
END:VEVENT
BEGIN:VEVENT
DTSTART;TZID=America/New_York:20261208T133000
DTEND;TZID=America/New_York:20261208T153000
DTSTAMP:20260421T125421
CREATED:20251216T183202Z
LAST-MODIFIED:20251217T172121Z
UID:4129-1796736600-1796743800@dashealth.com
SUMMARY:Aprima PM Billing Training
DESCRIPTION:In this training class\, you will learn the Aprima PM Billing side of the Aprima 19.2 Software. This class will give you the knowledge and skills to be able to customize the Practice Management portions of your Aprima 19.2 database. \nProcesses Covered: \n\nLogging in & short cut keys\nPatient demographics\nAccount tab review\nTrack superbills – overview & icon definitions\nCharge entry\nBatches – overview & icon definitions\nTrack payments\nPayment posting\nERA review\nProcessing claims – paper & electronic\nStatements\nList Editor\nFee Schedule\nReports\n\nRecommended Attendees: \n\nPractice super users\nNurses\nFront office staff
URL:https://dashealth.com/event/aprima-pm-billing-training-12/
CATEGORIES:Training Class
ATTACH;FMTTYPE=image/jpeg:https://dashealth.com/wp-content/uploads/2025/12/Banner-Training-Class.jpg
END:VEVENT
BEGIN:VEVENT
DTSTART;TZID=America/New_York:20261209T133000
DTEND;TZID=America/New_York:20261209T153000
DTSTAMP:20260421T125421
CREATED:20251216T183811Z
LAST-MODIFIED:20251217T172030Z
UID:4138-1796823000-1796830200@dashealth.com
SUMMARY:Aprima Clinical EHR End User
DESCRIPTION:In this training class\, you will learn: \n\nHomepage Navigation & Configuration\nPatient Visit & Documentation: Scheduler\, appointment queue\, calendar\nVitals Tab: Add/modify BP methods\, weight conditions\, set vitals default\nChief Complaint (CC) Tab: Add/modify systems/symptoms\, configure criteria slider\, show/hide options\nHistory of Present Illness (HPI): Add/modify category/symptoms\, use criteria slider\, show/hide descriptions\nHistory Tab: Add/modify answer groups\, history questions/answers\nReview of Systems (ROS) Tab: Add/modify systems/symptoms\, set defaults\, use criteria slider\, show/hide items\nPhysical Exam (PE) Tab: Add/modify findings/descriptions\, set PE parent system and types\, set defaults\, show/hide fields\nRx Tab: Add/modify default sigs\nPlan & Patient Instructions: Add/modify macros\nExisting Images: How to import\nEducation Forms: Import and associate with patient education\nVaccines: Define vaccine defaults (if applicable)\nMessages: Manage attachment approvals\, Rx refill requests\, and service order approvals\nProvider Setup: Validate identity for eRx\, create electronic signature
URL:https://dashealth.com/event/aprima-clinical-ehr-end-user-12/
CATEGORIES:Training Class
ATTACH;FMTTYPE=image/jpeg:https://dashealth.com/wp-content/uploads/2025/12/Banner-Training-Class.jpg
END:VEVENT
BEGIN:VEVENT
DTSTART;TZID=America/New_York:20261216T133000
DTEND;TZID=America/New_York:20261216T150000
DTSTAMP:20260421T125421
CREATED:20251216T184532Z
LAST-MODIFIED:20251217T172011Z
UID:4147-1797427800-1797433200@dashealth.com
SUMMARY:Aprima Super User
DESCRIPTION:In this training class\, you will learn the PM End User side of the Aprima Software. This class will give you the knowledge and skills to be able to customize the Practice Management portions of your Aprima database. \nProcesses Covered: \n\nVitals Tab – add/modify BP methods\, add/modify weight conditions\, add vitals default\nCC Tab – add/modify CC system/symptoms\, criteria slider\, hide/un-hide system/symptoms\nHPI – add/modify HPI category/symptoms\, criteria slider\, hide/un-hide category and descriptions\nHistory Tab – add/modify answer group\, history group/questions\, history questions/answers\nROS Tab – add/modify ROS systems/symptoms\, set defaults\, criteria slider\, hide/un-hide system/symptoms\nPE Tab – add/modify findings/descriptions; PE parent system; PE typ/system\, set defaults criteria slider\, hide/un-hide\nRx Tab – add/modify default sigs\nPlan and Patient Instructions – add/modify macros\nExisting Images – how to import\nEducation Forms – import forms\, associate education forms\nVaccines – define vaccine default (if applicable)\nAdministration – attachment types\, charge tickets: modify Dx/SO/SP charge tickets\, create procedure panels\, create custom codes\n\nRecommended Attendees: \n\nPractice super users\nNurses\nFront office staff
URL:https://dashealth.com/event/aprima-super-user-12/
CATEGORIES:Training Class
ATTACH;FMTTYPE=image/jpeg:https://dashealth.com/wp-content/uploads/2025/12/Banner-Training-Class.jpg
END:VEVENT
BEGIN:VEVENT
DTSTART;TZID=America/New_York:20261217T133000
DTEND;TZID=America/New_York:20261217T150000
DTSTAMP:20260421T125421
CREATED:20251216T185447Z
LAST-MODIFIED:20251217T171914Z
UID:4157-1797514200-1797519600@dashealth.com
SUMMARY:Medisoft PM Billing Training
DESCRIPTION:In this training class\, you will learn the practice management side of the Medisoft software. These classes will give you the knowledge and skills to be able to perform the billing functions in the software. \nProcesses Covered: \n\nLogging in\nShort cut keys\nPatient & Guarantor data entry\nPatient demographics\nCases – definition & creation\nTransaction entry\nUpdating charge entries\nInsurance set up\nClaims management\nDeposit entry\nStatement management\nAR Tracker\nProgram options\nReports\n\nRecommended Attendees: \n\nPractice super users\nNurses\nFront office staff\nBillers
URL:https://dashealth.com/event/medisoft-pm-billing-training-28/
CATEGORIES:Training Class
ATTACH;FMTTYPE=image/jpeg:https://dashealth.com/wp-content/uploads/2025/12/Banner-Training-Class.jpg
END:VEVENT
END:VCALENDAR